BEGIN:VCALENDAR
VERSION:2.0
PRODID:-//wp-events-plugin.com//7.2.3.1//EN
TZID:America/New_York
X-WR-TIMEZONE:America/New_York
BEGIN:VEVENT
UID:5636@kolamivirginia.org
DTSTART;TZID=America/New_York:20260301T160000
DTEND;TZID=America/New_York:20260301T180000
DTSTAMP:20260211T145804Z
URL:https://www.kolamivirginia.org/events/purim-carnival-spiel/
SUMMARY:Purim Carnevale and Purimspiel
DESCRIPTION:Purim's coming -- get your costume ready! \n\nThis year\, we'r
 e encouraging EVERYONE to get in costume. The costume contest will includ
 e categories for adults and children\, with traditional costumes such as Q
 ueen Esther\, King Achashverosh\, and Haman\, as well as modern costumes f
 or contemporary villains and heroes.\n\nThis year we’re excited to prese
 nt an original Purimspiel created by congregant Zach Schrag: Tipsy Purim
 spiel! Enjoy our cast of all-stars as they blend the musical Gypsy with t
 he story of Queen Esther's courage.\n\nHelp us plan a joyful Purim—Regis
 ter today to let us know you’re coming! Come be part of this unique cele
 bration.
ATTACH;FMTTYPE=image/jpeg:https://www.kolamivirginia.org/wp-content/upload
 s/2025/11/Purim-26-1.png
CATEGORIES:Featured
END:VEVENT
BEGIN:VTIMEZONE
TZID:America/New_York
X-LIC-LOCATION:America/New_York
BEGIN:STANDARD
DTSTART:20251102T010000
TZOFFSETFROM:-0400
TZOFFSETTO:-0500
TZNAME:EST
END:STANDARD
END:VTIMEZONE
END:VCALENDAR