BEGIN:VCALENDAR
VERSION:2.0
PRODID:-//wp-events-plugin.com//7.2.3.1//EN
TZID:America/New_York
X-WR-TIMEZONE:America/New_York
BEGIN:VEVENT
UID:5616@kolamivirginia.org
DTSTART;TZID=America/New_York:20260124T100000
DTEND;TZID=America/New_York:20260124T120000
DTSTAMP:20260106T164530Z
URL:https://www.kolamivirginia.org/events/shabbat-morning-service-13/
SUMMARY:Shabbat Morning Service
DESCRIPTION:Join us for Shabbat morning services led by Rabbi Gilah. Our sp
 eaker during the Torah discussion will be Daniel Spiro\, author\, attorney
 \, and founder of the Jewish Islamic Dialogue Series. His topic will be: "
 Peacemaking While Jewish: How Dialogue Has Become Both More Dicey and More
  Compelling." A Kiddush Plus will follow the service.\n\nFor information o
 n virtual service\, please contact us. 
CATEGORIES:Featured
END:VEVENT
BEGIN:VTIMEZONE
TZID:America/New_York
X-LIC-LOCATION:America/New_York
BEGIN:STANDARD
DTSTART:20251102T010000
TZOFFSETFROM:-0400
TZOFFSETTO:-0500
TZNAME:EST
END:STANDARD
END:VTIMEZONE
END:VCALENDAR