BEGIN:VCALENDAR
VERSION:2.0
PRODID:-//wp-events-plugin.com//7.2.3.1//EN
TZID:America/New_York
X-WR-TIMEZONE:America/New_York
BEGIN:VEVENT
UID:5618@kolamivirginia.org
DTSTART;TZID=America/New_York:20260221T100000
DTEND;TZID=America/New_York:20260221T120000
DTSTAMP:20260211T152320Z
URL:https://www.kolamivirginia.org/events/shabbat-morning-service-14/
SUMMARY:Shabbat Morning Service & End of Life Issues Series
DESCRIPTION:Join us for a Shabbat morning service led by Rabbi Gilah. Our 
 Torah discussion will be the third and final part of our End-of-Life Issue
 s series\; the topic will be Jewish perspectives on the afterlife and the 
 journey of the soul.  A potluck kiddush will follow the service.\n\nFor i
 nformation on virtual services\, please contact us. 
ATTACH;FMTTYPE=image/jpeg:https://www.kolamivirginia.org/wp-content/upload
 s/2025/10/Shabbat-Morning-Service-Rabbi-Gilah-1.png
CATEGORIES:Featured
END:VEVENT
BEGIN:VTIMEZONE
TZID:America/New_York
X-LIC-LOCATION:America/New_York
BEGIN:STANDARD
DTSTART:20251102T010000
TZOFFSETFROM:-0400
TZOFFSETTO:-0500
TZNAME:EST
END:STANDARD
END:VTIMEZONE
END:VCALENDAR