BEGIN:VCALENDAR
VERSION:2.0
PRODID:-//wp-events-plugin.com//7.2.3.1//EN
TZID:America/New_York
X-WR-TIMEZONE:America/New_York
BEGIN:VEVENT
UID:5622@kolamivirginia.org
DTSTART;TZID=America/New_York:20260307T100000
DTEND;TZID=America/New_York:20260307T120000
DTSTAMP:20260224T192859Z
URL:https://www.kolamivirginia.org/events/shabbat-morning-service-16/
SUMMARY:Shabbat Morning Service
DESCRIPTION:Celebrate Shabbat morning with a joyful and reflective service 
 led by Rachel Friendly.  Together we’ll share in prayer\, music\, and c
 onnection\, creating space to renew our spirits and find meaning in commun
 ity. All are welcome to stay for a potluck kiddush following the service.\
 n\nFor information on virtual service\, please contact us. 
ATTACH;FMTTYPE=image/jpeg:https://www.kolamivirginia.org/wp-content/upload
 s/2025/11/Shabbat-Morning-Rachel-Friendly-1.png
CATEGORIES:Featured
END:VEVENT
BEGIN:VTIMEZONE
TZID:America/New_York
X-LIC-LOCATION:America/New_York
BEGIN:STANDARD
DTSTART:20251102T010000
TZOFFSETFROM:-0400
TZOFFSETTO:-0500
TZNAME:EST
END:STANDARD
END:VTIMEZONE
END:VCALENDAR