BEGIN:VCALENDAR
VERSION:2.0
PRODID:-//wp-events-plugin.com//7.2.3.1//EN
TZID:America/New_York
X-WR-TIMEZONE:America/New_York
BEGIN:VEVENT
UID:5653@kolamivirginia.org
DTSTART;TZID=America/New_York:20260328T100000
DTEND;TZID=America/New_York:20260328T120000
DTSTAMP:20260317T190042Z
URL:https://www.kolamivirginia.org/events/shabbat-morning-service-23/
SUMMARY:Shabbat Morning Service
DESCRIPTION:Come join us for Shabbat morning services and meet one of our w
 onderful rabbinic candidates!\n\nRabbi Doug Heifetz will lead our service 
 in song\, prayer\, and community—come get to know a candidate for our op
 en rabbi position. Rabbi Doug is a Reconstructionist rabbi and founder of 
 Lost &amp\; Forged\, an award-winning metal art studio in Silver Spring\, 
 Maryland\, with over two decades of experience leading congregations.\n\nA
 fter the service\, stay for Kiddush Plus\, featuring lox\, bagels\, and al
 l the fixings! Please bring a side dish or dessert to share.\n\nCome for t
 he service\, stay for the learning!\n\nFrom 1:00–2:00 PM\, Rabbi Doug 
 will lead a Teaching &amp\; Discussion session designed to engage particip
 ants in thoughtful exploration of Jewish texts and traditions. Join us to 
 learn\, discuss\, and discover new insights together.\n\n&nbsp\;
ATTACH;FMTTYPE=image/jpeg:https://www.kolamivirginia.org/wp-content/upload
 s/2026/03/Shabbat-Morning-Service-RG-_General-4.png
CATEGORIES:Featured
END:VEVENT
BEGIN:VTIMEZONE
TZID:America/New_York
X-LIC-LOCATION:America/New_York
BEGIN:DAYLIGHT
DTSTART:20260308T030000
TZOFFSETFROM:-0500
TZOFFSETTO:-0400
TZNAME:EDT
END:DAYLIGHT
END:VTIMEZONE
END:VCALENDAR