BEGIN:VCALENDAR
VERSION:2.0
PRODID:-//wp-events-plugin.com//7.2.3.1//EN
TZID:America/New_York
X-WR-TIMEZONE:America/New_York
BEGIN:VEVENT
UID:5523@kolamivirginia.org
DTSTART;TZID=America/New_York:20251122T100000
DTEND;TZID=America/New_York:20251122T120000
DTSTAMP:20251118T200313Z
URL:https://www.kolamivirginia.org/events/shabbat-morning-service-9/
SUMMARY:Shabbat Morning Learning Service
DESCRIPTION:Join us this Shabbat for Rabbi Gilah's learning service. We'll 
 be exploring the central Jewish prayer\, the Amidah\, in more detail\, his
 torically\, spiritually\, and practically.  Barbara Diskin will be one o
 f our Torah readers as we immerse ourselves in the dramatic and powerful s
 tory of Isaac\, Rebekah\, and their sons\, Jacob and Esau. A potluck kiddu
 sh will follow at noon.\n\nFor information on virtual service\, please con
 tact us. 
CATEGORIES:Featured
END:VEVENT
BEGIN:VTIMEZONE
TZID:America/New_York
X-LIC-LOCATION:America/New_York
BEGIN:STANDARD
DTSTART:20251102T010000
TZOFFSETFROM:-0400
TZOFFSETTO:-0500
TZNAME:EST
END:STANDARD
END:VTIMEZONE
END:VCALENDAR