BEGIN:VCALENDAR
VERSION:2.0
PRODID:-//wp-events-plugin.com//7.2.3.1//EN
TZID:America/New_York
X-WR-TIMEZONE:America/New_York
BEGIN:VEVENT
UID:5630@kolamivirginia.org
DTSTART;TZID=America/New_York:20260425T100000
DTEND;TZID=America/New_York:20260425T120000
DTSTAMP:20260413T142452Z
URL:https://www.kolamivirginia.org/events/shabbat-morning-service-and-b-mi
 tzvah-of-dagny-viera/
SUMMARY:Shabbat Morning Service and B-Mitzvah of Dagny Viera
DESCRIPTION:Celebrate a meaningful milestone as Dagny Viera becomes a B-Mit
 zvah during our Shabbat morning service. Surrounded by community\, Dagny w
 ill lead us in prayer\, share her reflections\, and step into Jewish adult
 hood with wisdom and heart. Everyone is invited to kiddush following the s
 ervice.\n\nMazel Tov to Dagny and to her parents\, Luis and Stacey Viera\,
  and the entire family!\n\nPlease note: This service will be in person onl
 y\; Zoom will not be available.  Contact us for more information.
ATTACH;FMTTYPE=image/jpeg:https://www.kolamivirginia.org/wp-content/upload
 s/2026/04/New-1.png
CATEGORIES:Featured
END:VEVENT
BEGIN:VTIMEZONE
TZID:America/New_York
X-LIC-LOCATION:America/New_York
BEGIN:DAYLIGHT
DTSTART:20260308T030000
TZOFFSETFROM:-0500
TZOFFSETTO:-0400
TZNAME:EDT
END:DAYLIGHT
END:VTIMEZONE
END:VCALENDAR